BEGIN:VCALENDAR
VERSION:2.0
PRODID:-//ica - ECPv5.14.1//NONSGML v1.0//EN
CALSCALE:GREGORIAN
METHOD:PUBLISH
X-WR-CALNAME:ica
X-ORIGINAL-URL:https://www.ica.gr.jp/wp
X-WR-CALDESC:ica のイベント
BEGIN:VTIMEZONE
TZID:Asia/Tokyo
BEGIN:STANDARD
TZOFFSETFROM:+0900
TZOFFSETTO:+0900
TZNAME:JST
DTSTART:20260101T000000
END:STANDARD
END:VTIMEZONE
BEGIN:VEVENT
DTSTART;TZID=Asia/Tokyo:20260331T133000
DTEND;TZID=Asia/Tokyo:20260331T150000
DTSTAMP:20260423T175059
CREATED:20260317T014438Z
LAST-MODIFIED:20260317T014438Z
UID:8551-1774963800-1774969200@www.ica.gr.jp
SUMMARY:日本語おしゃべりサロン
DESCRIPTION:場所：ica\n毎週火曜日\n午後1:30～3:00\nお話のテーマがあります。\n3/3（火） …おひなまつり\n3/10（火）…年金説明会\n3/17（火）…各国の春のイベント\n3/24（火）…なんでも話しましょう\n3/31（火）…お花見しましょう
URL:https://www.ica.gr.jp/wp/event/%e6%97%a5%e6%9c%ac%e8%aa%9e%e3%81%8a%e3%81%97%e3%82%83%e3%81%b9%e3%82%8a%e3%82%b5%e3%83%ad%e3%83%b3-104
END:VEVENT
BEGIN:VEVENT
DTSTART;TZID=Asia/Tokyo:20260404T103000
DTEND;TZID=Asia/Tokyo:20260404T120000
DTSTAMP:20260423T175059
CREATED:20260411T051208Z
LAST-MODIFIED:20260411T051208Z
UID:8602-1775298600-1775304000@www.ica.gr.jp
SUMMARY:Brush up 英語 (中級～）
DESCRIPTION:▼4月4日(土)午前10:30-午後0:00\n▼ica▼英語でお話しましよう▼topic/①Cherry Blossom Festival②True or Lie Quiz\n→５月はおやすみです
URL:https://www.ica.gr.jp/wp/event/brush-up-%e8%8b%b1%e8%aa%9e-%e4%b8%ad%e7%b4%9a%ef%bd%9e%ef%bc%89-5
LOCATION:南部市民交流センター本館
END:VEVENT
BEGIN:VEVENT
DTSTART;VALUE=DATE:20260405
DTEND;VALUE=DATE:20260407
DTSTAMP:20260423T175059
CREATED:20260207T064134Z
LAST-MODIFIED:20260207T064134Z
UID:8511-1775347200-1775519999@www.ica.gr.jp
SUMMARY:休館
DESCRIPTION:
URL:https://www.ica.gr.jp/wp/event/%e4%bc%91%e9%a4%a8-341
END:VEVENT
BEGIN:VEVENT
DTSTART;TZID=Asia/Tokyo:20260407T133000
DTEND;TZID=Asia/Tokyo:20260407T150000
DTSTAMP:20260423T175059
CREATED:20260411T045818Z
LAST-MODIFIED:20260411T050127Z
UID:8592-1775568600-1775574000@www.ica.gr.jp
SUMMARY:日本語おしゃべりサロン
DESCRIPTION:毎週火曜日\n午後1:30～3:00\n場所：ica \nお話のテーマがあります。\n4/7（火） …お花見\n4/14（火）…新生活（学校、仕事）\n/21（火）…いろいろなメディア（テレビなど）\n4/28（火）…ゴールデンウイークの過ごし方
URL:https://www.ica.gr.jp/wp/event/%e6%97%a5%e6%9c%ac%e8%aa%9e%e3%81%8a%e3%81%97%e3%82%83%e3%81%b9%e3%82%8a%e3%82%b5%e3%83%ad%e3%83%b3-106
LOCATION:南部市民交流センター本館
END:VEVENT
BEGIN:VEVENT
DTSTART;VALUE=DATE:20260412
DTEND;VALUE=DATE:20260414
DTSTAMP:20260423T175059
CREATED:20260207T064215Z
LAST-MODIFIED:20260207T064215Z
UID:8513-1775952000-1776124799@www.ica.gr.jp
SUMMARY:休館
DESCRIPTION:
URL:https://www.ica.gr.jp/wp/event/%e4%bc%91%e9%a4%a8-342
END:VEVENT
BEGIN:VEVENT
DTSTART;TZID=Asia/Tokyo:20260414T133000
DTEND;TZID=Asia/Tokyo:20260414T150000
DTSTAMP:20260423T175059
CREATED:20260411T050238Z
LAST-MODIFIED:20260411T050238Z
UID:8594-1776173400-1776178800@www.ica.gr.jp
SUMMARY:おしゃべりサロン
DESCRIPTION:毎週火曜日\n午後1:30～3:00\n場所：ica \nお話のテーマがあります。\n4/7（火） …お花見\n4/14（火）…新生活（学校、仕事）\n/21（火）…いろいろなメディア（テレビなど）\n4/28（火）…ゴールデンウイークの過ごし方
URL:https://www.ica.gr.jp/wp/event/%e3%81%8a%e3%81%97%e3%82%83%e3%81%b9%e3%82%8a%e3%82%b5%e3%83%ad%e3%83%b3-15
LOCATION:南部市民交流センター本館
END:VEVENT
BEGIN:VEVENT
DTSTART;VALUE=DATE:20260419
DTEND;VALUE=DATE:20260421
DTSTAMP:20260423T175059
CREATED:20260207T064300Z
LAST-MODIFIED:20260207T064300Z
UID:8515-1776556800-1776729599@www.ica.gr.jp
SUMMARY:休館
DESCRIPTION:
URL:https://www.ica.gr.jp/wp/event/%e4%bc%91%e9%a4%a8-343
END:VEVENT
BEGIN:VEVENT
DTSTART;TZID=Asia/Tokyo:20260421T133000
DTEND;TZID=Asia/Tokyo:20260421T150000
DTSTAMP:20260423T175059
CREATED:20260411T050350Z
LAST-MODIFIED:20260411T050350Z
UID:8596-1776778200-1776783600@www.ica.gr.jp
SUMMARY:おしゃべりサロン
DESCRIPTION:毎週火曜日\n午後1:30～3:00\n場所：ica \nお話のテーマがあります。\n4/7（火） …お花見\n4/14（火）…新生活（学校、仕事）\n/21（火）…いろいろなメディア（テレビなど）\n4/28（火）…ゴールデンウイークの過ごし方
URL:https://www.ica.gr.jp/wp/event/%e3%81%8a%e3%81%97%e3%82%83%e3%81%b9%e3%82%8a%e3%82%b5%e3%83%ad%e3%83%b3-16
LOCATION:南部市民交流センター本館
END:VEVENT
BEGIN:VEVENT
DTSTART;TZID=Asia/Tokyo:20260425T103000
DTEND;TZID=Asia/Tokyo:20260425T123000
DTSTAMP:20260423T175059
CREATED:20260411T050802Z
LAST-MODIFIED:20260411T051007Z
UID:8600-1777113000-1777120200@www.ica.gr.jp
SUMMARY:話chat World
DESCRIPTION:楽しくお国について教えてもらいましょう！（中学生以上対象）\n日時：４月25日（土）10:30～12:30　 場所：ica\nゲスト：関西国際センター外交官・公務員コース研修生\nヘルレンさん（モンゴル）、ムティソさん（ケニア）、ワンさん（カンボジア）\nワフィさん（マレーシア） \n要申込　無料　ica会員のみ
URL:https://www.ica.gr.jp/wp/event/%e8%a9%b1chat-world-2
LOCATION:南部市民交流センター本館
END:VEVENT
BEGIN:VEVENT
DTSTART;VALUE=DATE:20260426
DTEND;VALUE=DATE:20260428
DTSTAMP:20260423T175059
CREATED:20260207T064343Z
LAST-MODIFIED:20260207T064343Z
UID:8517-1777161600-1777334399@www.ica.gr.jp
SUMMARY:休館
DESCRIPTION:
URL:https://www.ica.gr.jp/wp/event/%e4%bc%91%e9%a4%a8-344
END:VEVENT
BEGIN:VEVENT
DTSTART;TZID=Asia/Tokyo:20260428T133000
DTEND;TZID=Asia/Tokyo:20260428T150000
DTSTAMP:20260423T175059
CREATED:20260411T050458Z
LAST-MODIFIED:20260411T050458Z
UID:8598-1777383000-1777388400@www.ica.gr.jp
SUMMARY:おしゃべりサロン
DESCRIPTION:毎週火曜日\n午後1:30～3:00\n場所：ica \nお話のテーマがあります。\n4/7（火） …お花見\n4/14（火）…新生活（学校、仕事）\n/21（火）…いろいろなメディア（テレビなど）\n4/28（火）…ゴールデンウイークの過ごし方
URL:https://www.ica.gr.jp/wp/event/%e3%81%8a%e3%81%97%e3%82%83%e3%81%b9%e3%82%8a%e3%82%b5%e3%83%ad%e3%83%b3-17
LOCATION:南部市民交流センター本館
END:VEVENT
BEGIN:VEVENT
DTSTART;VALUE=DATE:20260429
DTEND;VALUE=DATE:20260430
DTSTAMP:20260423T175059
CREATED:20260317T012129Z
LAST-MODIFIED:20260317T012129Z
UID:8531-1777420800-1777507199@www.ica.gr.jp
SUMMARY:休館
DESCRIPTION:
URL:https://www.ica.gr.jp/wp/event/%e4%bc%91%e9%a4%a8-346
END:VEVENT
END:VCALENDAR