BEGIN:VCALENDAR
VERSION:2.0
PRODID:-//ica - ECPv5.14.1//NONSGML v1.0//EN
CALSCALE:GREGORIAN
METHOD:PUBLISH
X-WR-CALNAME:ica
X-ORIGINAL-URL:https://www.ica.gr.jp/wp
X-WR-CALDESC:ica のイベント
BEGIN:VTIMEZONE
TZID:Asia/Tokyo
BEGIN:STANDARD
TZOFFSETFROM:+0900
TZOFFSETTO:+0900
TZNAME:JST
DTSTART:20260101T000000
END:STANDARD
END:VTIMEZONE
BEGIN:VEVENT
DTSTART;TZID=Asia/Tokyo:20260222T080000
DTEND;TZID=Asia/Tokyo:20260323T170000
DTSTAMP:20260423T192604
CREATED:20260113T045839Z
LAST-MODIFIED:20260113T045839Z
UID:8470-1771747200-1774285200@www.ica.gr.jp
SUMMARY:休館
DESCRIPTION:
URL:https://www.ica.gr.jp/wp/event/%e4%bc%91%e9%a4%a8-334
END:VEVENT
BEGIN:VEVENT
DTSTART;TZID=Asia/Tokyo:20260303T133000
DTEND;TZID=Asia/Tokyo:20260303T150000
DTSTAMP:20260423T192604
CREATED:20260317T014612Z
LAST-MODIFIED:20260317T014612Z
UID:8553-1772544600-1772550000@www.ica.gr.jp
SUMMARY:日本語おしゃべりサロン
DESCRIPTION:場所：ica\n毎週火曜日\n午後1:30～3:00\nお話のテーマがあります。\n3/3（火） …おひなまつり\n3/10（火）…年金説明会\n3/17（火）…各国の春のイベント\n3/24（火）…なんでも話しましょう\n3/31（火）…お花見しましょう
URL:https://www.ica.gr.jp/wp/event/%e6%97%a5%e6%9c%ac%e8%aa%9e%e3%81%8a%e3%81%97%e3%82%83%e3%81%b9%e3%82%8a%e3%82%b5%e3%83%ad%e3%83%b3-105
END:VEVENT
END:VCALENDAR