BEGIN:VCALENDAR
VERSION:2.0
PRODID:-//ica - ECPv5.14.1//NONSGML v1.0//EN
CALSCALE:GREGORIAN
METHOD:PUBLISH
X-WR-CALNAME:ica
X-ORIGINAL-URL:https://www.ica.gr.jp/wp
X-WR-CALDESC:ica のイベント
BEGIN:VTIMEZONE
TZID:Asia/Tokyo
BEGIN:STANDARD
TZOFFSETFROM:+0900
TZOFFSETTO:+0900
TZNAME:JST
DTSTART:20260101T000000
END:STANDARD
END:VTIMEZONE
BEGIN:VEVENT
DTSTART;TZID=Asia/Tokyo:20260322T140000
DTEND;TZID=Asia/Tokyo:20260322T160000
DTSTAMP:20260423T193252
CREATED:20260207T070849Z
LAST-MODIFIED:20260207T070849Z
UID:8521-1774188000-1774195200@www.ica.gr.jp
SUMMARY:国際交流フェスタ～のどじまんTHE IZUMISANO～
DESCRIPTION:日時：3月22日(日)　午後2:00 – 4:00（開場午後1:30）\n場所：エブノ泉の森　小ホール\n(泉佐野市市場東1丁目2-1）\nゲスト審査員：クリス・ハートさん（歌手）\n定員：430人（申込多数の場合抽選）\n申込：2月5日（木）-２月27日（金）申込フォームより
URL:https://www.ica.gr.jp/wp/event/%e5%9b%bd%e9%9a%9b%e4%ba%a4%e6%b5%81%e3%83%95%e3%82%a7%e3%82%b9%e3%82%bf%ef%bd%9e%e3%81%ae%e3%81%a9%e3%81%98%e3%81%be%e3%82%93the-izumisano%ef%bd%9e
LOCATION:エブノ泉の森
END:VEVENT
END:VCALENDAR